BEGIN:VCALENDAR
VERSION:2.0
PRODID:-//Viva Samba - ECPv6.13.2.1//NONSGML v1.0//EN
CALSCALE:GREGORIAN
METHOD:PUBLISH
X-ORIGINAL-URL:https://vivasamba.com.br
X-WR-CALDESC:Eventos para Viva Samba
REFRESH-INTERVAL;VALUE=DURATION:PT1H
X-Robots-Tag:noindex
X-PUBLISHED-TTL:PT1H
BEGIN:VTIMEZONE
TZID:America/Sao_Paulo
BEGIN:STANDARD
TZOFFSETFROM:-0300
TZOFFSETTO:-0300
TZNAME:-03
DTSTART:20220101T000000
END:STANDARD
END:VTIMEZONE
BEGIN:VEVENT
DTSTART;TZID=America/Sao_Paulo:20221112T180000
DTEND;TZID=America/Sao_Paulo:20221112T233000
DTSTAMP:20260423T095224
CREATED:20221108T135800Z
LAST-MODIFIED:20221108T135800Z
UID:19012-1668276000-1668295800@vivasamba.com.br
SUMMARY:Festa de Lançamento das Fantasias 2023 da Unidos de Jucutuquara
DESCRIPTION:Estão animados para conhecer as lindas fantasias que a Unidos de Jucutuquara levará para a avenida em 2023? \nDia 12/11 (sábado) a partir das 18h no Arena Coruja aguardamos todos vocês no “Lançamento dos nossos Protótipos das Fantasias” junto com o novo samba-enredo 2023. \nNão percam! Venha e já garanta a sua fantasia.
URL:https://vivasamba.com.br/eventos/festa-de-lancamento-das-fantasias-2023-da-unidos-de-jucutuquara/
LOCATION:Quadra da Jucutuquara\, Rua José Cassiano dos Santos\, Vitória\, ES\, 29043-085\, Brasil
CATEGORIES:Evento Especial
ATTACH;FMTTYPE=image/jpeg:https://vivasamba.com.br/wp-content/uploads/2022/11/jucu12-11.jpeg
END:VEVENT
BEGIN:VEVENT
DTSTART;TZID=America/Sao_Paulo:20220331T200000
DTEND;TZID=America/Sao_Paulo:20220331T230000
DTSTAMP:20260423T095224
CREATED:20220321T172234Z
LAST-MODIFIED:20220321T172821Z
UID:16573-1648756800-1648767600@vivasamba.com.br
SUMMARY:Ensaios Técnicos: Chega Mais e Boa Vista
DESCRIPTION:A LIESGE confirmou a realização dos ensaios técnicos das escolas de samba do Grupo Especial e Grupo A a partir do dia 22/03\, terça-feira. \nOs ensaios terão duração de no máximo 1h10min e o intervalo entre uma escola e outra será de no máximo de 20 minutos. A Liga reforçou a importância da realização dos ensaios dentro do horário planejado\, já que acontecerão em dias úteis. \nOs ensaios técnicos acontecerão nos dias 22 a 25 de março e 29 a 31 de março no Sambão do Povo.
URL:https://vivasamba.com.br/eventos/ensaios-tecnicos-chega-mais-e-boa-vista/
LOCATION:Sambão do Povo\, Av. Mal. Mascarenhas de Moraes\, 1927\, Vitória\, Espírito Santo\, 29050-945\, Brasil
CATEGORIES:Ensaios Técnicos
ATTACH;FMTTYPE=image/png:https://vivasamba.com.br/wp-content/uploads/2022/03/REGULAMENTO-900-px-×-900-px-7.png
END:VEVENT
BEGIN:VEVENT
DTSTART;TZID=America/Sao_Paulo:20220330T200000
DTEND;TZID=America/Sao_Paulo:20220330T230000
DTSTAMP:20260423T095224
CREATED:20220321T172141Z
LAST-MODIFIED:20220321T172824Z
UID:16572-1648670400-1648681200@vivasamba.com.br
SUMMARY:Ensaios Técnicos: Chegou O Que Faltava e Novo Império
DESCRIPTION:A LIESGE confirmou a realização dos ensaios técnicos das escolas de samba do Grupo Especial e Grupo A a partir do dia 22/03\, terça-feira. \nOs ensaios terão duração de no máximo 1h10min e o intervalo entre uma escola e outra será de no máximo de 20 minutos. A Liga reforçou a importância da realização dos ensaios dentro do horário planejado\, já que acontecerão em dias úteis. \nOs ensaios técnicos acontecerão nos dias 22 a 25 de março e 29 a 31 de março no Sambão do Povo.
URL:https://vivasamba.com.br/eventos/ensaios-tecnicos-chegou-o-que-faltava-e-novo-imperio/
LOCATION:Sambão do Povo\, Av. Mal. Mascarenhas de Moraes\, 1927\, Vitória\, Espírito Santo\, 29050-945\, Brasil
CATEGORIES:Ensaios Técnicos
ATTACH;FMTTYPE=image/png:https://vivasamba.com.br/wp-content/uploads/2022/03/REGULAMENTO-900-px-×-900-px-6.png
END:VEVENT
BEGIN:VEVENT
DTSTART;TZID=America/Sao_Paulo:20220329T200000
DTEND;TZID=America/Sao_Paulo:20220329T230000
DTSTAMP:20260423T095224
CREATED:20220321T172007Z
LAST-MODIFIED:20220321T172007Z
UID:16570-1648584000-1648594800@vivasamba.com.br
SUMMARY:Ensaios Técnicos: São Torquato e Piedade
DESCRIPTION:A LIESGE confirmou a realização dos ensaios técnicos das escolas de samba do Grupo Especial e Grupo A a partir do dia 22/03\, terça-feira. \nOs ensaios terão duração de no máximo 1h10min e o intervalo entre uma escola e outra será de no máximo de 20 minutos. A Liga reforçou a importância da realização dos ensaios dentro do horário planejado\, já que acontecerão em dias úteis. \nOs ensaios técnicos acontecerão nos dias 22 a 25 de março e 29 a 31 de março no Sambão do Povo.
URL:https://vivasamba.com.br/eventos/ensaios-tecnicos-sao-torquato-e-piedade/
LOCATION:Sambão do Povo\, Av. Mal. Mascarenhas de Moraes\, 1927\, Vitória\, Espírito Santo\, 29050-945\, Brasil
CATEGORIES:Ensaios Técnicos
ATTACH;FMTTYPE=image/png:https://vivasamba.com.br/wp-content/uploads/2022/03/REGULAMENTO-900-px-×-900-px-5.png
END:VEVENT
BEGIN:VEVENT
DTSTART;TZID=America/Sao_Paulo:20220327T193000
DTEND;TZID=America/Sao_Paulo:20220327T223000
DTSTAMP:20260423T095224
CREATED:20220321T154111Z
LAST-MODIFIED:20220321T154606Z
UID:16536-1648409400-1648420200@vivasamba.com.br
SUMMARY:Show da MUG Especial: Noite das Musas e Musos
DESCRIPTION:Prepara o brilho! A noite mais glamourosa do Carnaval Capixaba já tem data marcada.\n\nDomingo (27/03) vamos apresentar todo nosso elenco de superdestaques e posse dos Musos e Musas MUG 2022.\n\nVocê não vai perder né ?!\n\nSERVIÇO\nShow da MUG Especial: Noite das Musas e Musos\nDia 20/03\nHorário: 19:30h\nLocal: Quadra da MUG – Glória – VV\nAtrações: Intérpretes\, Rainhas\, Passistas\, Baterias\, Baianas\, Casais de Mestre Sala e Porta Bandeira\, Destaques e Segmentos. DJ Pato e Posse das Musas e Musos MJG 2022.\nIngressos: R$ 10 (na bilheteria)\nInformações: (27) 99889-1209\n\n#AvanteMUG #MUG2022 #oleaoemcaravana
URL:https://vivasamba.com.br/eventos/show-da-mug-especial-noite-das-musas-e-musos/
LOCATION:Quadra da MUG\, R. Mourisco\, s/n\, Glória\, Vila Velha\, Espírito Santo\, 29122-070\, Brasil
CATEGORIES:Ensaios
ATTACH;FMTTYPE=image/jpeg:https://vivasamba.com.br/wp-content/uploads/2022/03/WhatsApp-Image-2022-03-21-at-12.26.03.jpeg
END:VEVENT
BEGIN:VEVENT
DTSTART;TZID=America/Sao_Paulo:20220327T120000
DTEND;TZID=America/Sao_Paulo:20220327T170000
DTSTAMP:20260423T095224
CREATED:20220322T032955Z
LAST-MODIFIED:20220322T032955Z
UID:16597-1648382400-1648400400@vivasamba.com.br
SUMMARY:Roda de Boteco da Boa
DESCRIPTION:Dia 27/03 (domingo)\, vai rolar mais uma edição do Roda de Boteco da BOA. \nOs 100 primeiros ingressos custarão apenas R$ 20 com direito a um prato do Roda de Boteco. As vendas iniciarão nesta segunda-feira (14/03) na Rede Farmes Itaquari. \nTemos a presença confirmada do Pele Morena na nossa Roda de Boteco para aquecer essa reta final até o desfile. E claro\, com muita cerveja gelada e petiscos variados.
URL:https://vivasamba.com.br/eventos/roda-de-boteco-da-boa/
LOCATION:Quadra da Boa Vista\, R. Muniz Freire - Itaquari\, Cariacica\, Espírito Santo\, 29151-560\, Brasil
CATEGORIES:Evento Especial
ATTACH;FMTTYPE=image/jpeg:https://vivasamba.com.br/wp-content/uploads/2022/03/gresboavista_276979648_1574490902951143_5448759596102579883_n.jpg
END:VEVENT
BEGIN:VEVENT
DTSTART;TZID=America/Sao_Paulo:20220326T190000
DTEND;TZID=America/Sao_Paulo:20220326T230000
DTSTAMP:20260423T095224
CREATED:20220323T034706Z
LAST-MODIFIED:20220323T034706Z
UID:16621-1648321200-1648335600@vivasamba.com.br
SUMMARY:Novo Império convida AfroKizomba e MUG
DESCRIPTION:A Novo Império convida o Bloco AfroKizomba e MUG. O evento vai contar com participação de baterias\, intérpretes\, equipes musicais\, velhas guardas\, rainhas\, musos e musas\, passistas\, casais e baianas.\n\nDia 26 de março\, a partir das 19h na quadra da Novo Império.
URL:https://vivasamba.com.br/eventos/novo-imperio-convida-afrokizomba-e-mug/
LOCATION:Quadra da Novo Império\, Av. Santo Antônio - Caratoíra\, Vitória\, Espírito Santo\, 29026-075\, Brasil
CATEGORIES:Ensaios
ATTACH;FMTTYPE=image/jpeg:https://vivasamba.com.br/wp-content/uploads/2022/03/novoimperio_276982458_213420460996557_5364541362576094841_n.jpg
END:VEVENT
BEGIN:VEVENT
DTSTART;TZID=America/Sao_Paulo:20220325T200000
DTEND;TZID=America/Sao_Paulo:20220325T230000
DTSTAMP:20260423T095224
CREATED:20220321T171707Z
LAST-MODIFIED:20220321T171707Z
UID:16567-1648238400-1648249200@vivasamba.com.br
SUMMARY:Ensaios Técnicos: Andaraí e Imperatriz do Forte
DESCRIPTION:A LIESGE confirmou a realização dos ensaios técnicos das escolas de samba do Grupo Especial e Grupo A a partir do dia 22/03\, terça-feira. \nOs ensaios terão duração de no máximo 1h10min e o intervalo entre uma escola e outra será de no máximo de 20 minutos. A Liga reforçou a importância da realização dos ensaios dentro do horário planejado\, já que acontecerão em dias úteis. \nOs ensaios técnicos acontecerão nos dias 22 a 25 de março e 29 a 31 de março no Sambão do Povo.
URL:https://vivasamba.com.br/eventos/ensaios-tecnicos-andarai-e-imperatriz-do-forte/
LOCATION:Sambão do Povo\, Av. Mal. Mascarenhas de Moraes\, 1927\, Vitória\, Espírito Santo\, 29050-945\, Brasil
CATEGORIES:Ensaios Técnicos
ATTACH;FMTTYPE=image/png:https://vivasamba.com.br/wp-content/uploads/2022/03/REGULAMENTO-900-px-×-900-px-4.png
END:VEVENT
BEGIN:VEVENT
DTSTART;TZID=America/Sao_Paulo:20220324T200000
DTEND;TZID=America/Sao_Paulo:20220324T230000
DTSTAMP:20260423T095224
CREATED:20220321T170425Z
LAST-MODIFIED:20220321T170425Z
UID:16560-1648152000-1648162800@vivasamba.com.br
SUMMARY:Ensaios Técnicos: Pega no Samba e MUG
DESCRIPTION:A LIESGE confirmou a realização dos ensaios técnicos das escolas de samba do Grupo Especial e Grupo A a partir do dia 22/03\, terça-feira. \nOs ensaios terão duração de no máximo 1h10min e o intervalo entre uma escola e outra será de no máximo de 20 minutos. A Liga reforçou a importância da realização dos ensaios dentro do horário planejado\, já que acontecerão em dias úteis. \nOs ensaios técnicos acontecerão nos dias 22 a 25 de março e 29 a 31 de março no Sambão do Povo.
URL:https://vivasamba.com.br/eventos/ensaios-tecnicos-pega-no-samba-e-mug/
LOCATION:Sambão do Povo\, Av. Mal. Mascarenhas de Moraes\, 1927\, Vitória\, Espírito Santo\, 29050-945\, Brasil
CATEGORIES:Ensaios Técnicos
ATTACH;FMTTYPE=image/png:https://vivasamba.com.br/wp-content/uploads/2022/03/REGULAMENTO-900-px-×-900-px-3.png
END:VEVENT
BEGIN:VEVENT
DTSTART;TZID=America/Sao_Paulo:20220323T200000
DTEND;TZID=America/Sao_Paulo:20220323T230000
DTSTAMP:20260423T095224
CREATED:20220321T165735Z
LAST-MODIFIED:20220321T165735Z
UID:16557-1648065600-1648076400@vivasamba.com.br
SUMMARY:Ensaios Técnicos: Mocidade da Praia e Jucutuquara
DESCRIPTION:A LIESGE confirmou a realização dos ensaios técnicos das escolas de samba do Grupo Especial e Grupo A a partir do dia 22/03\, terça-feira. \nOs ensaios terão duração de no máximo 1h10min e o intervalo entre uma escola e outra será de no máximo de 20 minutos. A Liga reforçou a importância da realização dos ensaios dentro do horário planejado\, já que acontecerão em dias úteis. \nOs ensaios técnicos acontecerão nos dias 22 a 25 de março e 29 a 31 de março no Sambão do Povo.
URL:https://vivasamba.com.br/eventos/ensaios-tecnicos-mocidade-da-praia-e-jucutuquara/
LOCATION:Sambão do Povo\, Av. Mal. Mascarenhas de Moraes\, 1927\, Vitória\, Espírito Santo\, 29050-945\, Brasil
CATEGORIES:Ensaios Técnicos
ATTACH;FMTTYPE=image/png:https://vivasamba.com.br/wp-content/uploads/2022/03/REGULAMENTO-900-px-×-900-px-2.png
END:VEVENT
BEGIN:VEVENT
DTSTART;TZID=America/Sao_Paulo:20220322T203000
DTEND;TZID=America/Sao_Paulo:20220322T213000
DTSTAMP:20260423T095224
CREATED:20220321T163842Z
LAST-MODIFIED:20220321T164505Z
UID:16548-1647981000-1647984600@vivasamba.com.br
SUMMARY:Ensaios Técnicos: Império de Fátima
DESCRIPTION:A LIESGE confirmou a realização dos ensaios técnicos das escolas de samba do Grupo Especial e Grupo A a partir do dia 22/03\, terça-feira. \nOs ensaios terão duração de no máximo 1h10min e o intervalo entre uma escola e outra será de no máximo de 20 minutos. A Liga reforçou a importância da realização dos ensaios dentro do horário planejado\, já que acontecerão em dias úteis. \nOs ensaios técnicos acontecerão nos dias 22 a 25 de março e 29 a 31 de março no Sambão do Povo.
URL:https://vivasamba.com.br/eventos/ensaios-tecnicos-imperio-de-fatima/
LOCATION:Sambão do Povo\, Av. Mal. Mascarenhas de Moraes\, 1927\, Vitória\, Espírito Santo\, 29050-945\, Brasil
CATEGORIES:Ensaios Técnicos
ATTACH;FMTTYPE=image/png:https://vivasamba.com.br/wp-content/uploads/2022/03/REGULAMENTO-900-px-×-900-px-1.png
END:VEVENT
END:VCALENDAR